BEGIN:VCALENDAR
PRODID:-//CHATEAUDELAGARRIGUE//NONSGML CHATEAUDELAGARRIGUE v1.0//EN
VERSION:2.0
CALSCALE:GREGORIAN
BEGIN:VEVENT
UID:20260422T093519Z-de000ac29ed2a130bfa988ae7e0ef63f@chateaudelagarrigue.store
DTSTAMP:20260422T093519Z
SUMMARY:FRIANDISE ET DYNAMITE
DESCRIPTION:🎭 Friandise et Dynamite – Une soirée explosive au Château de la Garrigue 💥Le&nbsp;12 août 2026, le Château de la Garrigue vous donne rendez-vous pour une comédie déjantée en plein air, sur sa scène extérieure. Une soirée estivale sous le signe du rire, du rythme… et des rebondissements !💣 Une comédie explosiveUn dîner entre amis qui vire au chaos, un ticket de loto à&nbsp;13 millions d\'euros&nbsp;qui disparaît… et tout bascule.Entre mensonges, jalousies, révélations et quiproquos, la tension monte à chaque minute.Mais une question reste en suspens :&nbsp;qui a le ticket… et jusqu\'où sont-ils prêts à aller pour le récupérer ?Portée par une mise en scène dynamique et des comédiens débordants d\'énergie,&nbsp;Friandise et Dynamite&nbsp;est une comédie moderne, rythmée et terriblement efficace.🎬 Informations pratiques📅&nbsp;Date&nbsp;: Mercredi 12 août 2026🕖&nbsp;Ouverture des portes&nbsp;: 19h🕘&nbsp;Début du spectacle&nbsp;: 21h📍&nbsp;Lieu&nbsp;: Scène extérieure – Château de la Garrigue📌&nbsp;Adresse&nbsp;: 980 Chemin de Pellausy, 31340 Villemur-sur-Tarn🍔 Restauration et bar sur place&nbsp;🎟️ TarifsTarif adulte&nbsp;: 22 €Tarif réduit&nbsp;: 18 €(demandeurs d\'emploi, professionnels, -25 ans)🎭 À propos du spectacleDurée&nbsp;: 1h20Tout public&nbsp;(à partir de 13 ans)Auteurs&nbsp;: Cyril Bacqué &amp; Isabelle PyMise en scène&nbsp;: Cyril Bacqué &amp; Jonathan FuserAvec&nbsp;: Isabelle Py, Cyril Bacqué, Gauthier Vasseur🗞️ Ils en parlent« Une pièce de théâtre drôlissime ! Du rythme, des comédiens bourrés d\'énergie… les rires fusent du début à la fin ! »&nbsp;– La Dépêche du Midi⭐ Avis spectateurs« Un super moment de rires et de détente ! »« Très drôle, plein de quiproquos, une excellente soirée ! »« Une énergie incroyable sur scène ! »
URL:https://www.chateaudelagarrigue.store/calendar/friandise-et-dynamite.ics
DTSTART:20260812T210000Z
DTEND:20260812T210000Z
LOCATION:980 chemin de Pellausy 31340 VILLEMUR SUR TARN
GEO:43.8552;1.4570
X-APPLE-STRUCTURED-LOCATION;VALUE=URI;X-ADDRESS=980 chemin de Pellausy 31340 VILLEMUR SUR TARN;X-APPLE-RADIUS=49;X-TITLE=PARC - SCÈNE EXTÉRIEURE:geo:43.8552,1.4570
END:VEVENT
END:VCALENDAR
